BEGIN:VCALENDAR
VERSION:2.0
PRODID:-//PROGRAMA PROA DEL MATEM&Aacute;TICO PUIG ADAM - ECPv6.0.12//NONSGML v1.0//EN
CALSCALE:GREGORIAN
METHOD:PUBLISH
X-WR-CALNAME:PROGRAMA PROA DEL MATEM&Aacute;TICO PUIG ADAM
X-ORIGINAL-URL:https://www.proapuigadam.aulasabiertas.com
X-WR-CALDESC:Eventos para PROGRAMA PROA DEL MATEM&Aacute;TICO PUIG ADAM
REFRESH-INTERVAL;VALUE=DURATION:PT1H
X-Robots-Tag:noindex
X-PUBLISHED-TTL:PT1H
BEGIN:VTIMEZONE
TZID:UTC
BEGIN:STANDARD
TZOFFSETFROM:+0000
TZOFFSETTO:+0000
TZNAME:UTC
DTSTART:20210101T000000
END:STANDARD
END:VTIMEZONE
BEGIN:VEVENT
DTSTART;VALUE=DATE:20210223
DTEND;VALUE=DATE:20210507
DTSTAMP:20260421T201149
CREATED:20210223T111527Z
LAST-MODIFIED:20210422T115440Z
UID:532-1614038400-1620345599@www.proapuigadam.aulasabiertas.com
SUMMARY:PERIODO DE INSCRIPCIÓN: HABILIDADES DE COACHING PARA MOTIVAR Y EMPODERAR A UN ESTUDIANTE
DESCRIPTION:¡AMPLIADO EL PLAZO DE INSCRIPCIÓN! \nDestinatarios: Padres y madres\, profesores y tutores (preferentemente) \nFacilitadora: Aulas Abiertas Formación / María García Lázaro \nDuración: 2 sesiones de 2 horas (4h) \nFechas: Martes 11 y martes 18 de mayo \nHorario: de 19:00 h a 21:00 h \nFormato: Online presencial (vía Webex) \nContenido: \n\nIntroducción al coaching y a la motivación.\nEl diálogo interior.\nModelo GROW.\nLa mirada apreciativa.\nDefinición de objetivos efectiva.\nPilares de la felicidad.\nLa conversación para el desarrollo de talento.\nPrácticas dinámicas de conversación.\n\n Metodología: \nSe trata de un taller eminentemente práctico. Tras una breve explicación teórica\, trabajaremos cómo afrontar algunos de los problemas que nos podemos encontrar en el aula y en casa a través de herramientas coaching.
URL:https://www.proapuigadam.aulasabiertas.com/event/periodo-de-inscripcion-habilidades-de-coaching-para-motivar-y-empoderar-a-un-estudiante/
CATEGORIES:Padres,Profesores
ATTACH;FMTTYPE=image/jpeg:https://www.proapuigadam.aulasabiertas.com/wp-content/uploads/2021/02/COACHING.jpg
END:VEVENT
BEGIN:VEVENT
DTSTART;VALUE=DATE:20210309
DTEND;VALUE=DATE:20210507
DTSTAMP:20260421T201149
CREATED:20210309T202919Z
LAST-MODIFIED:20210419T084815Z
UID:593-1615248000-1620345599@www.proapuigadam.aulasabiertas.com
SUMMARY:PERIODO DE INSCRIPCION: TALLER PARA PROFESORES- CREACIÓN DE UN DEPÓSITO ONLINE DE MATERIALES Y RECURSOS DIDÁCTICOS DEL CENTRO
DESCRIPTION:ONLINE – AULA VIRTUAL \nDuración estimada: 6h. \nEl curso se llevará a cabo de forma autónoma desde el Aula Virtual\, con la dirección y apoyo del ponente\, a través de vídeos\, lecturas y otras actividades. \nSe harán unas breves sesiones por vídeoconferencia de apertura y cierre del curso. \nFechas propuestas: del 10 al 18 de mayo. \nCaracterísticas: En este taller se estudiarán diversas opciones para la creación del depósito\, se llevará a cabo la forma elegida y se pondrá en conocimiento de la comunidad educativa.
URL:https://www.proapuigadam.aulasabiertas.com/event/periodo-de-inscripcion-taller-para-profesores-creacion-de-un-deposito-online-de-materiales-y-recursos-didacticos-del-centro/
CATEGORIES:Profesores
ATTACH;FMTTYPE=image/jpeg:https://www.proapuigadam.aulasabiertas.com/wp-content/uploads/2021/03/RECURSOS-ONLINE.jpg
END:VEVENT
BEGIN:VEVENT
DTSTART;VALUE=DATE:20210309
DTEND;VALUE=DATE:20210514
DTSTAMP:20260421T201149
CREATED:20210309T203700Z
LAST-MODIFIED:20210419T084447Z
UID:597-1615248000-1620950399@www.proapuigadam.aulasabiertas.com
SUMMARY:PERIODO DE INSCRIPCIÓN: PARA PROFESORES - FORMACIÓN EN EL USO BÁSICO DE RECURSOS ONLINE PARA EDUCACIÓN
DESCRIPTION: ONLINE – AULA VIRTUAL \nDuración estimada: 4h \nEl curso se llevará a cabo de forma autónoma dirigido y apoyado desde el Aula Virtual\, a través de vídeos\, lecturas y otras actividades. \nSe harán unas breves sesiones por vídeoconferencia de apertura y cierre del curso. \n  \nCaracterísticas: Se trabajará el manejo básico de recursos para videollamadas\, streaming\, plataformas tipo Google Classroom\, EducaMadrid Cloud o similares \n  \nEl aula estará abierta desde el  17 hasta el 24 de mayo pudiendo acabar la formación antes de esa fecha. \n  \n 
URL:https://www.proapuigadam.aulasabiertas.com/event/periodo-de-inscripcion-para-profesores-formacion-en-el-uso-basico-de-recursos-online-para-educacion/
CATEGORIES:Profesores
ATTACH;FMTTYPE=image/jpeg:https://www.proapuigadam.aulasabiertas.com/wp-content/uploads/2021/03/MATERIALES.jpg
END:VEVENT
BEGIN:VEVENT
DTSTART;VALUE=DATE:20210309
DTEND;VALUE=DATE:20210417
DTSTAMP:20260421T201149
CREATED:20210309T204955Z
LAST-MODIFIED:20210314T192702Z
UID:599-1615248000-1618617599@www.proapuigadam.aulasabiertas.com
SUMMARY:PERIODO DE INSCRIPCIÓN: PARA ALUMNOS\, PADRES/MADRES Y PROFESORES- TALLER DE WORDPRESS BÁSICO\, ELABORACIÓN DE PÁGINAS WEB Y BLOGS
DESCRIPTION:Totalmente ONLINE. No presencial salvo en el caso de que se requiera apoyo mediante videollamada. \nSe realizará utilizando el Aula Virtual de Aulas Abiertas \nEl curso estará abierto desde el 19 de abril hasta el 28 de mayo \n  \nCONTENIDOS \n\nIntroducción al Curso de WordPress básico\nPreparación y hosting\nEntradas y páginas.\nPublicar.\nGestión de imágenes\, audio y vídeo.\nPersonalizar temas.\nCreación de menús.\nWidgets.\nPlugins.\nGestión de usuarios.
URL:https://www.proapuigadam.aulasabiertas.com/event/periodo-de-inscripcion-para-alumnos-padres-madres-y-profesores-taller-de-wordpress-basico-elaboracion-de-paginas-web-y-blogs/
CATEGORIES:Alumnos,Padres,Profesores
ATTACH;FMTTYPE=image/jpeg:https://www.proapuigadam.aulasabiertas.com/wp-content/uploads/2020/12/LOGO-WORDPRESS.jpg
END:VEVENT
BEGIN:VEVENT
DTSTART;VALUE=DATE:20210309
DTEND;VALUE=DATE:20210417
DTSTAMP:20260421T201149
CREATED:20210309T202519Z
LAST-MODIFIED:20210310T115211Z
UID:591-1615248000-1618617599@www.proapuigadam.aulasabiertas.com
SUMMARY:PERIODO DE INSCRIPCIÓN: TALLER PARA ORIENTADORES/TUTORES/PROFESORES - HABILIDADES EMOCIONALES PARA ORIENTADORES
DESCRIPTION:3 sesiones de 2 horas \nDías: 20\,27 abril 4 mayo \nOnline
URL:https://www.proapuigadam.aulasabiertas.com/event/periodo-de-inscripcion-taller-para-orientadores-tutores-profesores-habilidades-emocionales-para-orientadores/
CATEGORIES:Profesores
ATTACH;FMTTYPE=image/jpeg:https://www.proapuigadam.aulasabiertas.com/wp-content/uploads/2021/03/ORIENTACION.jpg
END:VEVENT
BEGIN:VEVENT
DTSTART;VALUE=DATE:20210309
DTEND;VALUE=DATE:20210507
DTSTAMP:20260421T201149
CREATED:20210309T203338Z
LAST-MODIFIED:20210310T212655Z
UID:595-1615248000-1620345599@www.proapuigadam.aulasabiertas.com
SUMMARY:PERIODO DE INCRIPCIÓN: PARA PROFESORES- ENTREVISTAS CON FAMILIAS
DESCRIPTION:Taller_entrevistas_PUIG\nONLINE \n3 sesiones de 2 horas \n11\,18\,25 mayo \nHorario: de 19 a 21 h
URL:https://www.proapuigadam.aulasabiertas.com/event/periodo-de-incripcion-para-profesores-entrevistas-con-familias/
CATEGORIES:Profesores
ATTACH;FMTTYPE=image/jpeg:https://www.proapuigadam.aulasabiertas.com/wp-content/uploads/2021/03/ENTREVISTA.jpg
END:VEVENT
END:VCALENDAR