BEGIN:VCALENDAR
VERSION:2.0
PRODID:-//PROGRAMA PROA DEL MATEM&Aacute;TICO PUIG ADAM - ECPv6.0.12//NONSGML v1.0//EN
CALSCALE:GREGORIAN
METHOD:PUBLISH
X-WR-CALNAME:PROGRAMA PROA DEL MATEM&Aacute;TICO PUIG ADAM
X-ORIGINAL-URL:https://www.proapuigadam.aulasabiertas.com
X-WR-CALDESC:Eventos para PROGRAMA PROA DEL MATEM&Aacute;TICO PUIG ADAM
REFRESH-INTERVAL;VALUE=DURATION:PT1H
X-Robots-Tag:noindex
X-PUBLISHED-TTL:PT1H
BEGIN:VTIMEZONE
TZID:UTC
BEGIN:STANDARD
TZOFFSETFROM:+0000
TZOFFSETTO:+0000
TZNAME:UTC
DTSTART:20210101T000000
END:STANDARD
END:VTIMEZONE
BEGIN:VEVENT
DTSTART;VALUE=DATE:20210309
DTEND;VALUE=DATE:20210514
DTSTAMP:20260421T182919
CREATED:20210309T203700Z
LAST-MODIFIED:20210419T084447Z
UID:597-1615248000-1620950399@www.proapuigadam.aulasabiertas.com
SUMMARY:PERIODO DE INSCRIPCIÓN: PARA PROFESORES - FORMACIÓN EN EL USO BÁSICO DE RECURSOS ONLINE PARA EDUCACIÓN
DESCRIPTION: ONLINE – AULA VIRTUAL \nDuración estimada: 4h \nEl curso se llevará a cabo de forma autónoma dirigido y apoyado desde el Aula Virtual\, a través de vídeos\, lecturas y otras actividades. \nSe harán unas breves sesiones por vídeoconferencia de apertura y cierre del curso. \n  \nCaracterísticas: Se trabajará el manejo básico de recursos para videollamadas\, streaming\, plataformas tipo Google Classroom\, EducaMadrid Cloud o similares \n  \nEl aula estará abierta desde el  17 hasta el 24 de mayo pudiendo acabar la formación antes de esa fecha. \n  \n 
URL:https://www.proapuigadam.aulasabiertas.com/event/periodo-de-inscripcion-para-profesores-formacion-en-el-uso-basico-de-recursos-online-para-educacion/
CATEGORIES:Profesores
ATTACH;FMTTYPE=image/jpeg:https://www.proapuigadam.aulasabiertas.com/wp-content/uploads/2021/03/MATERIALES.jpg
END:VEVENT
END:VCALENDAR