BEGIN:VCALENDAR
VERSION:2.0
PRODID:-//PROGRAMA PROA DEL MATEM&Aacute;TICO PUIG ADAM - ECPv6.0.12//NONSGML v1.0//EN
CALSCALE:GREGORIAN
METHOD:PUBLISH
X-ORIGINAL-URL:https://www.proapuigadam.aulasabiertas.com
X-WR-CALDESC:Eventos para PROGRAMA PROA DEL MATEM&Aacute;TICO PUIG ADAM
REFRESH-INTERVAL;VALUE=DURATION:PT1H
X-Robots-Tag:noindex
X-PUBLISHED-TTL:PT1H
BEGIN:VTIMEZONE
TZID:UTC
BEGIN:STANDARD
TZOFFSETFROM:+0000
TZOFFSETTO:+0000
TZNAME:UTC
DTSTART:20210101T000000
END:STANDARD
END:VTIMEZONE
BEGIN:VEVENT
DTSTART;VALUE=DATE:20210420
DTEND;VALUE=DATE:20210501
DTSTAMP:20260422T093327
CREATED:20210420T090026Z
LAST-MODIFIED:20210420T090026Z
UID:656-1618876800-1619827199@www.proapuigadam.aulasabiertas.com
SUMMARY:PERIODO DE INSCRIPCIÓN: MESA REDONDA SOBRE DIRECTIVAS DE PRIVACIDAD Y PROTECCIÓN DE DATOS EN EDUCACIÓN
DESCRIPTION:Características: Se trabajará en Aula Virtual\, se utilizarán los foros para descargar el material que tengamos y/o busquemos y hacer la puesta en común. Se visionarán videos y otros documentos oficiales. Como resultado se realizará un protocolo de actuación en cuanto a cumplimiento de directivas y protección de datos y su forma de llevarlo a cabo en las actuaciones del profesorado y personal no docente del centro. Se realizarán videollamadas cuando se considere necesario. \nDestinatarios: Profesorado y personal no docente.  \nModerador: Aulas Abiertas Formación  \nPeríodo y duración: El aula virtual estará abierta del 5 al 12 de mayo. Tiempo estimado: 2h
URL:https://www.proapuigadam.aulasabiertas.com/event/periodo-de-inscripcion-mesa-redonda-sobre-directivas-de-privacidad-y-proteccion-de-datos-en-educacion/
CATEGORIES:Equipo directivo,Personal no docente,Profesores
ATTACH;FMTTYPE=image/jpeg:https://www.proapuigadam.aulasabiertas.com/wp-content/uploads/2021/04/PRIVATE.jpg
END:VEVENT
BEGIN:VEVENT
DTSTART;VALUE=DATE:20210420
DTEND;VALUE=DATE:20210430
DTSTAMP:20260422T093327
CREATED:20210420T091435Z
LAST-MODIFIED:20210420T091435Z
UID:659-1618876800-1619740799@www.proapuigadam.aulasabiertas.com
SUMMARY:PERIODO DE INSCRIPCIÓN: GRUPO DE TRABAJO SOBRE CIBERSEGURIDAD
DESCRIPTION:PLAN DIGITAL DOCENTE. GRUPO DE TRABAJO SOBRE CIBERSEGURIDAD. SEGURIDAD DIGITAL DE LOS MATERIALES DIDÁCTICOS Y EN LA VIDA COTIDIANA.  \n  \nCaracterísticas: Se trabajará en Aula Virtual\, se utilizarán los foros para descargar el material que tengamos y/o busquemos y hacer la puesta en común. Se expondrán las líneas principales marcadas por INCIBE (Instituto Nacional de Ciberseguridad). Se estudiarán diversos tipos de ciberataques\, su prevención y su tratamiento. Especial atención a contraseñas seguras y a materiales didácticos. Se realizarán videollamadas cuando se considere necesario. \nDestinatarios: Alumnos\, padres y madres\, profesorado y personal no docente. \nModerador: Aulas Abiertas Formación \nPeríodo y duración: El aula virtual estará abierta del 5 al 19 de mayo. Tiempo estimado: 4h
URL:https://www.proapuigadam.aulasabiertas.com/event/periodo-de-inscripcion-grupo-de-trabajo-sobre-ciberseguridad/
CATEGORIES:Alumnos,Equipo directivo,Padres,Personal no docente,Profesores
ATTACH;FMTTYPE=image/jpeg:https://www.proapuigadam.aulasabiertas.com/wp-content/uploads/2021/04/CIBERSEGURIDAD.jpg
END:VEVENT
END:VCALENDAR