BEGIN:VCALENDAR
VERSION:2.0
PRODID:-//PROGRAMA PROA DEL MATEM&Aacute;TICO PUIG ADAM - ECPv6.0.12//NONSGML v1.0//EN
CALSCALE:GREGORIAN
METHOD:PUBLISH
X-WR-CALNAME:PROGRAMA PROA DEL MATEM&Aacute;TICO PUIG ADAM
X-ORIGINAL-URL:https://www.proapuigadam.aulasabiertas.com
X-WR-CALDESC:Eventos para PROGRAMA PROA DEL MATEM&Aacute;TICO PUIG ADAM
REFRESH-INTERVAL;VALUE=DURATION:PT1H
X-Robots-Tag:noindex
X-PUBLISHED-TTL:PT1H
BEGIN:VTIMEZONE
TZID:UTC
BEGIN:STANDARD
TZOFFSETFROM:+0000
TZOFFSETTO:+0000
TZNAME:UTC
DTSTART:20210101T000000
END:STANDARD
END:VTIMEZONE
BEGIN:VEVENT
DTSTART;VALUE=DATE:20210309
DTEND;VALUE=DATE:20210403
DTSTAMP:20260424T212633
CREATED:20210309T195021Z
LAST-MODIFIED:20210310T115052Z
UID:575-1615248000-1617407999@www.proapuigadam.aulasabiertas.com
SUMMARY:PERIODO DE INSCRIPCIÓN: MINDFULNESS\, MOTIVACIÓN\, EMPATÍA Y REDUCCIÓN DE LA ANSIEDAD EN EL ESTUDIANTE DE ESO
DESCRIPTION:Destinatarios: Estudiantes de ESO \nFacilitadora: Aulas Abiertas Formación / María García Lázaro \nDuración: 2 sesiones de 2 horas \nFechas: 6 y 13 de abril\, de 18 a 20h \nFormato: Online presencial (vía Webex) más materiales y propuestas para trabajar durante la semana. \nContenido: \n\nDescubrir la importancia de las emociones en nuestras decisiones y la información vital que nos aportan.\nComprender la importancia del respeto al orden familiar\, cómo heredamos creencias familiares y porque nos hacen actuar y percibir el mundo de formas diferentes.\nMejorar las relaciones interpersonales\, la empatía y capacidad de escucha a través del juego.\nEnseñar la importancia de la respiración como herramienta para disminuir la ansiedad y conectar con lo que necesito.\n\nMetodología: \nSe trata de un taller eminentemente práctico. Tras una breve explicación teórica\, trabajaremos cómo afrontar algunos de los problemas que nos podemos encontrar en el aula a través de herramientas mindfulness.
URL:https://www.proapuigadam.aulasabiertas.com/event/periodo-de-inscripcion-mindfulness-motivacion-empatia-y-reduccion-de-la-ansiedad-en-el-estudiante-de-eso/
CATEGORIES:Alumnos
ATTACH;FMTTYPE=image/png:https://www.proapuigadam.aulasabiertas.com/wp-content/uploads/2021/03/CEREBRO-ENGRANAJE.png
END:VEVENT
BEGIN:VEVENT
DTSTART;TZID=UTC:20210308T180000
DTEND;TZID=UTC:20210308T200000
DTSTAMP:20260424T212633
CREATED:20210305T195638Z
LAST-MODIFIED:20210305T195704Z
UID:568-1615226400-1615233600@www.proapuigadam.aulasabiertas.com
SUMMARY:Sesión 1 de 2: TALLER DE COMPETENCIAS DIGITALES PARA FAMILIAS
DESCRIPTION:PROGRAMA DE LA SESIÓN: \nSesión 1. \n\nIntroducción al curso.\nEvaluación inicial.\nAplicación Roble.\nApp y página web.\nGestión de notas\, faltas de asistencia\, tablón de anuncios\, mensajes. avisos\, datos personales\, ventanas emergentes.
URL:https://www.proapuigadam.aulasabiertas.com/event/sesion-1-de-2-taller-de-competencias-digitales-para-familias/
CATEGORIES:Padres
ATTACH;FMTTYPE=image/jpeg:https://www.proapuigadam.aulasabiertas.com/wp-content/uploads/2021/02/COPYWRITTING-1920X700.jpg
END:VEVENT
BEGIN:VEVENT
DTSTART;TZID=UTC:20210303T170000
DTEND;TZID=UTC:20210303T200000
DTSTAMP:20260424T212633
CREATED:20201230T180151Z
LAST-MODIFIED:20210306T000844Z
UID:496-1614790800-1614801600@www.proapuigadam.aulasabiertas.com
SUMMARY:Sesión 3 de 7: FORMACIÓN USO BÁSICO AULA VIRTUAL
DESCRIPTION:Recursos para el aula virtual (archivos\, tareas y cuestionarios). Actividades.
URL:https://www.proapuigadam.aulasabiertas.com/event/sesion-3-de-7-formacion-uso-basico-aula-virtual/
CATEGORIES:Profesores
ATTACH;FMTTYPE=image/jpeg:https://www.proapuigadam.aulasabiertas.com/wp-content/uploads/2020/12/AULA-VIRTRUAL-DE-EDUCAMADRID.jpg
END:VEVENT
BEGIN:VEVENT
DTSTART;TZID=UTC:20210301T170000
DTEND;TZID=UTC:20210301T200000
DTSTAMP:20260424T212633
CREATED:20201230T180130Z
LAST-MODIFIED:20210306T000826Z
UID:494-1614618000-1614628800@www.proapuigadam.aulasabiertas.com
SUMMARY:Sesión 2 de 7: FORMACIÓN USO BÁSICO AULA VIRTUAL
DESCRIPTION:Introducción\, organización\, matriculación de alumnos/as y roles de usuarios. Foros de debate\, mensajería del aula virtual. Actividades.
URL:https://www.proapuigadam.aulasabiertas.com/event/sesion-2-de-7-formacion-uso-basico-aula-virtual/
CATEGORIES:Profesores
ATTACH;FMTTYPE=image/jpeg:https://www.proapuigadam.aulasabiertas.com/wp-content/uploads/2020/12/AULA-VIRTRUAL-DE-EDUCAMADRID.jpg
END:VEVENT
BEGIN:VEVENT
DTSTART;TZID=UTC:20210224T170000
DTEND;TZID=UTC:20210224T200000
DTSTAMP:20260424T212633
CREATED:20201230T175624Z
LAST-MODIFIED:20210306T000749Z
UID:492-1614186000-1614196800@www.proapuigadam.aulasabiertas.com
SUMMARY:Sesión 1 de 7: FORMACIÓN USO BÁSICO AULA VIRTUAL
DESCRIPTION:Introducción\, organización\, matriculación de alumnos/as y roles de usuarios. Foros de debate\, mensajería del aula virtual. Actividades.
URL:https://www.proapuigadam.aulasabiertas.com/event/sesion-1-de-7-formacion-uso-basico-aula-virtual/
CATEGORIES:Profesores
ATTACH;FMTTYPE=image/jpeg:https://www.proapuigadam.aulasabiertas.com/wp-content/uploads/2020/12/AULA-VIRTRUAL-DE-EDUCAMADRID.jpg
END:VEVENT
BEGIN:VEVENT
DTSTART;VALUE=DATE:20210223
DTEND;VALUE=DATE:20210409
DTSTAMP:20260424T212633
CREATED:20210223T110444Z
LAST-MODIFIED:20210314T193526Z
UID:529-1614038400-1617926399@www.proapuigadam.aulasabiertas.com
SUMMARY:PERIODO DE INSCRIPCIÓN: TALLER DE COMPRENSIÓN LECTORA
DESCRIPTION:Destinatarios: Alumnos \nComienzo: viernes 12 de marzo \nHorario: \nViernes de 18:00 a 20:00 h. \nObjetivos: \n\nLeer con fluidez.\nComprender el significado de un texto.\nSer capaz de entender un texto mientras se va leyendo.\nEntrenar la capacidad de síntesis y elección de palabras clave.\n\n  \nCARACTERÍSTICAS \nEn este taller se trabajará con diversos tipos de texto: textos literarios\, de la web\, de periódicos y revistas…. \nSe realizarán diversas actividades sobre estos textos: \n\nDebates sobre el contenido\nPreguntas sobre el mismo\nResúmenes de los textos\nRealización de mapas conceptuales\nSelección del título que más se ajusta al texto leído\nBúsqueda de significados por Internet…\n\nAdemás\, se trabajará también la lectura rápida productiva\, es decir\, aumentar la velocidad de lectura comprendiendo lo que se lee.
URL:https://www.proapuigadam.aulasabiertas.com/event/periodo-de-inscripcion-taller-de-comprension-lectora/
CATEGORIES:Alumnos
ATTACH;FMTTYPE=image/png:https://www.proapuigadam.aulasabiertas.com/wp-content/uploads/2021/02/LIBROS.png
END:VEVENT
BEGIN:VEVENT
DTSTART;VALUE=DATE:20210223
DTEND;VALUE=DATE:20210326
DTSTAMP:20260424T212633
CREATED:20210223T111853Z
LAST-MODIFIED:20210316T135546Z
UID:537-1614038400-1616716799@www.proapuigadam.aulasabiertas.com
SUMMARY:PERIODO DE INSCRIPCIÓN: MINDFULNESS\, MOTIVACIÓN\, EMPATÍA Y REDUCCIÓN DE LA ANSIEDAD EN EL ESTUDIANTE DE BACHILLERATO
DESCRIPTION:¡APLAZADO! POR ENFERMEDAD \nSe comunicará las nueva fecha. Se amplía el plazo de inscripción. \n  \nDestinatarios: Estudiantes de 1º y 2º de bachillerato \nFacilitadora: Aulas Abiertas Formación / María García Lázaro \nDuración: 2 sesiones de 2 horas \nFechas: 18 y 25 de marzo\, de 18 a 20h \nFormato: Online presencial (vía Webex) más materiales y propuestas para trabajar durante la semana. \nContenido: \n\nDescubrir la importancia de las emociones en nuestras decisiones y la información vital que nos aportan.\nComprender la importancia del respeto al orden familiar\, cómo heredamos creencias familiares y porque nos hacen actuar y percibir el mundo de formas diferentes.\nMejorar las relaciones interpersonales\, la empatía y capacidad de escucha a través del juego.\nEnseñar la importancia de la respiración como herramienta para disminuir la ansiedad y conectar con lo que necesito.\n\nMetodología: \nSe trata de un taller eminentemente práctico. Tras una breve explicación teórica\, trabajaremos cómo afrontar algunos de los problemas que nos podemos encontrar en el aula a través de herramientas mindfulness.
URL:https://www.proapuigadam.aulasabiertas.com/event/periodo-de-inscripcion-mindfulness-motivacion-empatia-y-reduccion-de-la-ansiedad-en-el-estudiante-de-bachillerato/
CATEGORIES:Alumnos
ATTACH;FMTTYPE=image/jpeg:https://www.proapuigadam.aulasabiertas.com/wp-content/uploads/2021/02/CEREBRO.jpg
END:VEVENT
BEGIN:VEVENT
DTSTART;VALUE=DATE:20210223
DTEND;VALUE=DATE:20210507
DTSTAMP:20260424T212633
CREATED:20210223T111527Z
LAST-MODIFIED:20210422T115440Z
UID:532-1614038400-1620345599@www.proapuigadam.aulasabiertas.com
SUMMARY:PERIODO DE INSCRIPCIÓN: HABILIDADES DE COACHING PARA MOTIVAR Y EMPODERAR A UN ESTUDIANTE
DESCRIPTION:¡AMPLIADO EL PLAZO DE INSCRIPCIÓN! \nDestinatarios: Padres y madres\, profesores y tutores (preferentemente) \nFacilitadora: Aulas Abiertas Formación / María García Lázaro \nDuración: 2 sesiones de 2 horas (4h) \nFechas: Martes 11 y martes 18 de mayo \nHorario: de 19:00 h a 21:00 h \nFormato: Online presencial (vía Webex) \nContenido: \n\nIntroducción al coaching y a la motivación.\nEl diálogo interior.\nModelo GROW.\nLa mirada apreciativa.\nDefinición de objetivos efectiva.\nPilares de la felicidad.\nLa conversación para el desarrollo de talento.\nPrácticas dinámicas de conversación.\n\n Metodología: \nSe trata de un taller eminentemente práctico. Tras una breve explicación teórica\, trabajaremos cómo afrontar algunos de los problemas que nos podemos encontrar en el aula y en casa a través de herramientas coaching.
URL:https://www.proapuigadam.aulasabiertas.com/event/periodo-de-inscripcion-habilidades-de-coaching-para-motivar-y-empoderar-a-un-estudiante/
CATEGORIES:Padres,Profesores
ATTACH;FMTTYPE=image/jpeg:https://www.proapuigadam.aulasabiertas.com/wp-content/uploads/2021/02/COACHING.jpg
END:VEVENT
BEGIN:VEVENT
DTSTART;VALUE=DATE:20210128
DTEND;VALUE=DATE:20210205
DTSTAMP:20260424T212633
CREATED:20210128T114205Z
LAST-MODIFIED:20210128T114205Z
UID:513-1611792000-1612483199@www.proapuigadam.aulasabiertas.com
SUMMARY:Inscripción TALLER DE TEATRO
DESCRIPTION:Teatro en el IES Matemático Puig Adam\nA partir del viernes 5 de febrero comenzamos esta nueva actividad enmarcada dentro del Programa PROA+ para todos los alumnos del centro.\nAdemás de ser una actividad en la que se comparten momentos divertidos con los compañeros y amigos\, sus beneficios para el desarrollo personal y académico son importantes:\n\nColaboración y trabajo en equipo.\nDesarrollo de la expresión verbal y corporal.\nEstimulación de la capacidad de memoria.\nControl del estrés y la ansiedad.\n…… y muchas más.\n\nLa actividad se realizará los viernes de 16:00 h a 18:00 h.\nUna vez inscrito nos pondremos en contacto contigo pues\, debido al aforo por el COVID\, las plazas son limitadas.\n \n 
URL:https://www.proapuigadam.aulasabiertas.com/event/inscripcion-taller-de-teatro/
CATEGORIES:Alumnos
ATTACH;FMTTYPE=image/png:https://www.proapuigadam.aulasabiertas.com/wp-content/uploads/2021/01/mascaras.png
END:VEVENT
BEGIN:VEVENT
DTSTART;VALUE=DATE:20210114
DTEND;VALUE=DATE:20210219
DTSTAMP:20260424T212633
CREATED:20201223T181024Z
LAST-MODIFIED:20210208T205422Z
UID:483-1610582400-1613692799@www.proapuigadam.aulasabiertas.com
SUMMARY:AMPLIACIÓN DEL PERIODO DE INSCRIPCIÓN: SEMINARIO DE FORMACIÓN EN EL USO BÁSICO DEL AULA VIRTUAL DE EDUCAMADRID
DESCRIPTION:* Destinatarios:  Profesores.\n* Características: \nSe trabajará el manejo básico del Aula Virtual; configuración del curso\, usuarios\, recursos y actividades básicas\, etc…\nSe puede hacer en forma de seminario (en espera de aprobación).\n* Contenidos de cada sesión (pueden cambiar en función de la marcha del seminario):\nSesiones 1 y 2: Introducción\, organización\, matriculación de alumnos/as y roles de usuarios. Foros de debate\, mensajería del aula virtual. Actividades.\nSesiones 3 y 4: Recursos para el aula virtual (archivos\, tareas y cuestionarios). Actividades.\nSesión 5 y 6: Calificador del aula virtual (organización de las calificaciones). Actividades.\nSesión 7: Backup del aula virtual\, entrega de actividades. Funcionalidades avanzadas del aula virtual.\n* Horario: de 16:00 h a 19:00 h\n* Horas totales: 21 horas en 7 sesiones de 3 horas.  En principio en formato presencial pero\, si nos dan autorización\, se podría pasar a formato online. \nSesión 1: 22 febrero\nSesión 2: 24 febrero\nSesión 3: 1 marzo\nSesión 4: 3 marzo\nSesión 5: 15 marzo\nSesión 6: 17 marzo\nSesión 7: 22 marzo\n  \n ===== ¡ÚLTIMA HORA! =====\n*** ¿OTORGA CRÉDITOS DE FORMACIÓN? SÍ\, nos han concedido una ampliación de inscripciones con derecho a créditos hasta 15 personas.\nMás información: Ángel García (DEPARTAMENTO DE MATEMÁTICAS)\n 
URL:https://www.proapuigadam.aulasabiertas.com/event/formacion-en-el-uso-basico-del-aula-virtual-de-educamadrid/
CATEGORIES:Profesores
ATTACH;FMTTYPE=image/jpeg:https://www.proapuigadam.aulasabiertas.com/wp-content/uploads/2020/12/AULA-VIRTRUAL-DE-EDUCAMADRID.jpg
END:VEVENT
END:VCALENDAR